BEGIN:VCALENDAR
VERSION:2.0
PRODID:icalendar-ruby
CALSCALE:GREGORIAN
METHOD:PUBLISH
BEGIN:VEVENT
DTSTAMP:20260421T085250Z
UID:631-238423@hopechristian127.tithelysetup5.com
DTSTART:20260509T140000Z
DTEND:20260509T180000Z
CLASS:PUBLIC
CREATED:20260414T130943
DESCRIPTION:May 9th @ 10am sharp\nMaintenance &amp\; Upkeep: Taking care of
  all God provides with care and stewardship.\nGenesis 2:15: "God placed hu
 mans in the garden to work it and take care of it."
LAST-MODIFIED:20260414T130943
LOCATION:3495 Lake Avenue\, Rochester\, NY 14612
SUMMARY:MAN-UP Maintenance & Upkeep
URL;VALUE=URI:https://hcfministry.org/events/man-up-maintenance-upkeep/2026
 -05-09
ATTACH;FILENAME=MAN-UP-Maintenance--Upkeep-May-9-2026-1500-x-784-px.png;FMT
 TYPE=image/png:https://dq5pwpg1q8ru0.cloudfront.net/2026/04/14/17/09/22/2a
 ac8c3e-21b2-4534-b56f-b64085ad52fc/MAN-UP-Maintenance--Upkeep-May-9-2026-1
 500-x-784-px.png
END:VEVENT
END:VCALENDAR
